BEGIN:VCALENDAR
VERSION:2.0
PRODID:-//ClassicCarRatings.com - ECPv6.11.2.1//NONSGML v1.0//EN
CALSCALE:GREGORIAN
METHOD:PUBLISH
X-WR-CALNAME:ClassicCarRatings.com
X-ORIGINAL-URL:https://classiccarratings.com/sv
X-WR-CALDESC:Events for ClassicCarRatings.com
REFRESH-INTERVAL;VALUE=DURATION:PT1H
X-Robots-Tag:noindex
X-PUBLISHED-TTL:PT1H
BEGIN:VTIMEZONE
TZID:UTC
BEGIN:STANDARD
TZOFFSETFROM:+0000
TZOFFSETTO:+0000
TZNAME:UTC
DTSTART:20250101T000000
END:STANDARD
END:VTIMEZONE
BEGIN:VEVENT
DTSTART;TZID=UTC:20251123T080000
DTEND;TZID=UTC:20251123T170000
DTSTAMP:20260420T201108
CREATED:20250616T114910Z
LAST-MODIFIED:20250616T114910Z
UID:3042-1763884800-1763917200@classiccarratings.com
SUMMARY:HARC Historic 250km Endurance 2025
DESCRIPTION:
URL:https://classiccarratings.com/sv/event-calendar/harc-historic-250km-endurance-2025/
CATEGORIES:Meetings
END:VEVENT
END:VCALENDAR