BEGIN:VCALENDAR
VERSION:2.0
PRODID:-//ClassicCarRatings.com - ECPv6.11.2.1//NONSGML v1.0//EN
CALSCALE:GREGORIAN
METHOD:PUBLISH
X-ORIGINAL-URL:https://classiccarratings.com/sv
X-WR-CALDESC:Events for ClassicCarRatings.com
REFRESH-INTERVAL;VALUE=DURATION:PT1H
X-Robots-Tag:noindex
X-PUBLISHED-TTL:PT1H
BEGIN:VTIMEZONE
TZID:UTC
BEGIN:STANDARD
TZOFFSETFROM:+0000
TZOFFSETTO:+0000
TZNAME:UTC
DTSTART:20250101T000000
END:STANDARD
END:VTIMEZONE
BEGIN:VEVENT
DTSTART;TZID=UTC:20251101T080000
DTEND;TZID=UTC:20251101T170000
DTSTAMP:20260421T175144
CREATED:20250604T100752Z
LAST-MODIFIED:20250604T100752Z
UID:2994-1761984000-1762016400@classiccarratings.com
SUMMARY:RM Sotheby's\, London
DESCRIPTION:
URL:https://classiccarratings.com/sv/event-calendar/rm-sothebys-london/
CATEGORIES:Auctions
END:VEVENT
BEGIN:VEVENT
DTSTART;TZID=UTC:20251101T080000
DTEND;TZID=UTC:20251102T170000
DTSTAMP:20260421T175144
CREATED:20250604T082804Z
LAST-MODIFIED:20250604T082804Z
UID:2895-1761984000-1762102800@classiccarratings.com
SUMMARY:Anglia Car Auctions | November 1st\, 2025
DESCRIPTION:
URL:https://classiccarratings.com/sv/event-calendar/anglia-car-auctions-november-1st-2025/
CATEGORIES:Auctions
END:VEVENT
BEGIN:VEVENT
DTSTART;TZID=UTC:20251113T080000
DTEND;TZID=UTC:20251115T170000
DTSTAMP:20260421T175144
CREATED:20250604T095619Z
LAST-MODIFIED:20250604T095619Z
UID:2979-1763020800-1763226000@classiccarratings.com
SUMMARY:Mecum Auctions\, Las Vegas
DESCRIPTION:
URL:https://classiccarratings.com/sv/event-calendar/mecum-auctions-las-vegas/
CATEGORIES:Auctions
END:VEVENT
BEGIN:VEVENT
DTSTART;TZID=UTC:20251129T080000
DTEND;TZID=UTC:20251129T170000
DTSTAMP:20260421T175144
CREATED:20250604T093942Z
LAST-MODIFIED:20250604T093942Z
UID:2965-1764403200-1764435600@classiccarratings.com
SUMMARY:Historics at Brooklands\, The Brooklands Velocity; Mercedes-Benz World
DESCRIPTION:
URL:https://classiccarratings.com/sv/event-calendar/historics-at-brooklands-the-brooklands-velocity-mercedes-benz-world/
CATEGORIES:Auctions
END:VEVENT
END:VCALENDAR