BEGIN:VCALENDAR
VERSION:2.0
PRODID:-//ClassicCarRatings.com - ECPv6.11.2.1//NONSGML v1.0//EN
CALSCALE:GREGORIAN
METHOD:PUBLISH
X-ORIGINAL-URL:https://classiccarratings.com/sv
X-WR-CALDESC:Events for ClassicCarRatings.com
REFRESH-INTERVAL;VALUE=DURATION:PT1H
X-Robots-Tag:noindex
X-PUBLISHED-TTL:PT1H
BEGIN:VTIMEZONE
TZID:UTC
BEGIN:STANDARD
TZOFFSETFROM:+0000
TZOFFSETTO:+0000
TZNAME:UTC
DTSTART:20250101T000000
END:STANDARD
END:VTIMEZONE
BEGIN:VEVENT
DTSTART;TZID=UTC:20250905T080000
DTEND;TZID=UTC:20250906T170000
DTSTAMP:20260421T203433
CREATED:20250604T090134Z
LAST-MODIFIED:20250604T090134Z
UID:2922-1757059200-1757178000@classiccarratings.com
SUMMARY:Bonhams\, The Beaulieu Sale
DESCRIPTION:
URL:https://classiccarratings.com/sv/event-calendar/bonhams-the-beaulieu-sale/
CATEGORIES:Auctions
END:VEVENT
BEGIN:VEVENT
DTSTART;TZID=UTC:20250910T080000
DTEND;TZID=UTC:20250910T170000
DTSTAMP:20260421T203433
CREATED:20250604T093434Z
LAST-MODIFIED:20250604T093434Z
UID:2956-1757491200-1757523600@classiccarratings.com
SUMMARY:H&H Auctions\, Kelham Hall | Newark\, Nottinghamshire
DESCRIPTION:
URL:https://classiccarratings.com/sv/event-calendar/hh-auctions-kelham-hall-newark-nottinghamshire/
CATEGORIES:Auctions
END:VEVENT
BEGIN:VEVENT
DTSTART;TZID=UTC:20250913T080000
DTEND;TZID=UTC:20250913T170000
DTSTAMP:20260421T203433
CREATED:20250604T090226Z
LAST-MODIFIED:20250604T090226Z
UID:2924-1757750400-1757782800@classiccarratings.com
SUMMARY:Bonhams\, Goodwood Revival
DESCRIPTION:
URL:https://classiccarratings.com/sv/event-calendar/bonhams-goodwood-revival/
CATEGORIES:Auctions
END:VEVENT
BEGIN:VEVENT
DTSTART;TZID=UTC:20250917T080000
DTEND;TZID=UTC:20250917T170000
DTSTAMP:20260421T203433
CREATED:20250604T091245Z
LAST-MODIFIED:20250604T091245Z
UID:2936-1758096000-1758128400@classiccarratings.com
SUMMARY:Brightwells\, September 17 2025
DESCRIPTION:
URL:https://classiccarratings.com/sv/event-calendar/brightwells-september-17-2025/
CATEGORIES:Auctions
END:VEVENT
BEGIN:VEVENT
DTSTART;TZID=UTC:20250920T080000
DTEND;TZID=UTC:20250920T170000
DTSTAMP:20260421T203433
CREATED:20250604T093832Z
LAST-MODIFIED:20250604T093832Z
UID:2962-1758355200-1758387600@classiccarratings.com
SUMMARY:Historics at Brooklands\, Pace of Autumn; Ascot Racecourse
DESCRIPTION:
URL:https://classiccarratings.com/sv/event-calendar/historics-at-brooklands-pace-of-autumn-ascot-racecourse/
CATEGORIES:Auctions
END:VEVENT
END:VCALENDAR