BEGIN:VCALENDAR
VERSION:2.0
PRODID:-//ClassicCarRatings.com - ECPv6.11.2.1//NONSGML v1.0//EN
CALSCALE:GREGORIAN
METHOD:PUBLISH
X-WR-CALNAME:ClassicCarRatings.com
X-ORIGINAL-URL:https://classiccarratings.com/it
X-WR-CALDESC:Events for ClassicCarRatings.com
REFRESH-INTERVAL;VALUE=DURATION:PT1H
X-Robots-Tag:noindex
X-PUBLISHED-TTL:PT1H
BEGIN:VTIMEZONE
TZID:UTC
BEGIN:STANDARD
TZOFFSETFROM:+0000
TZOFFSETTO:+0000
TZNAME:UTC
DTSTART:20250101T000000
END:STANDARD
END:VTIMEZONE
BEGIN:VEVENT
DTSTART;TZID=UTC:20250813T080000
DTEND;TZID=UTC:20250817T170000
DTSTAMP:20260421T022734
CREATED:20250616T113231Z
LAST-MODIFIED:20250616T113231Z
UID:3021-1755072000-1755450000@classiccarratings.com
SUMMARY:Pebble Beach Concours d'Elegance (CA)
DESCRIPTION:
URL:https://classiccarratings.com/it/event-calendar/pebble-beach-concours-delegance-ca/
CATEGORIES:Meetings
END:VEVENT
BEGIN:VEVENT
DTSTART;TZID=UTC:20250823T080000
DTEND;TZID=UTC:20250824T170000
DTSTAMP:20260421T022734
CREATED:20250616T113512Z
LAST-MODIFIED:20250616T113512Z
UID:3023-1755936000-1756054800@classiccarratings.com
SUMMARY:San Marino Motor Classic (CA)
DESCRIPTION:
URL:https://classiccarratings.com/it/event-calendar/san-marino-motor-classic-ca/
CATEGORIES:Meetings
END:VEVENT
END:VCALENDAR