BEGIN:VCALENDAR
VERSION:2.0
PRODID:-//ClassicCarRatings.com - ECPv6.11.2.1//NONSGML v1.0//EN
CALSCALE:GREGORIAN
METHOD:PUBLISH
X-ORIGINAL-URL:https://classiccarratings.com/fr
X-WR-CALDESC:Events for ClassicCarRatings.com
REFRESH-INTERVAL;VALUE=DURATION:PT1H
X-Robots-Tag:noindex
X-PUBLISHED-TTL:PT1H
BEGIN:VTIMEZONE
TZID:UTC
BEGIN:STANDARD
TZOFFSETFROM:+0000
TZOFFSETTO:+0000
TZNAME:UTC
DTSTART:20250101T000000
END:STANDARD
END:VTIMEZONE
BEGIN:VEVENT
DTSTART;TZID=UTC:20250711T080000
DTEND;TZID=UTC:20250713T170000
DTSTAMP:20260421T023220
CREATED:20250616T114754Z
LAST-MODIFIED:20250616T114754Z
UID:3040-1752220800-1752426000@classiccarratings.com
SUMMARY:Hankook NK HARC 82-90 by SUPERCAR MADNESS Zolder
DESCRIPTION:
URL:https://classiccarratings.com/fr/event-calendar/hankook-nk-harc-82-90-by-supercar-madness-zolder/
CATEGORIES:Meetings
END:VEVENT
END:VCALENDAR