BEGIN:VCALENDAR
VERSION:2.0
PRODID:-//ClassicCarRatings.com - ECPv6.11.2.1//NONSGML v1.0//EN
CALSCALE:GREGORIAN
METHOD:PUBLISH
X-WR-CALNAME:ClassicCarRatings.com
X-ORIGINAL-URL:https://classiccarratings.com/fr
X-WR-CALDESC:Events for ClassicCarRatings.com
REFRESH-INTERVAL;VALUE=DURATION:PT1H
X-Robots-Tag:noindex
X-PUBLISHED-TTL:PT1H
BEGIN:VTIMEZONE
TZID:UTC
BEGIN:STANDARD
TZOFFSETFROM:+0000
TZOFFSETTO:+0000
TZNAME:UTC
DTSTART:20250101T000000
END:STANDARD
END:VTIMEZONE
BEGIN:VEVENT
DTSTART;TZID=UTC:20250701T080000
DTEND;TZID=UTC:20250701T170000
DTSTAMP:20260421T225426
CREATED:20250604T084602Z
LAST-MODIFIED:20250604T084602Z
UID:2908-1751356800-1751389200@classiccarratings.com
SUMMARY:Automotive Auctions\, Boxmeer\, t/m 08-07-2025
DESCRIPTION:
URL:https://classiccarratings.com/fr/event-calendar/automotive-auctions-boxmeer-t-m-08-07-2025/
CATEGORIES:Auctions
END:VEVENT
BEGIN:VEVENT
DTSTART;TZID=UTC:20250707T080000
DTEND;TZID=UTC:20250709T170000
DTSTAMP:20260421T225426
CREATED:20250604T085737Z
LAST-MODIFIED:20250604T085737Z
UID:2914-1751875200-1752080400@classiccarratings.com
SUMMARY:BH Auction at CITY CIRCUIT TOKYO BAY
DESCRIPTION:
URL:https://classiccarratings.com/fr/event-calendar/bh-auction-at-city-circuit-tokyo-bay/
CATEGORIES:Auctions
END:VEVENT
BEGIN:VEVENT
DTSTART;TZID=UTC:20250708T080000
DTEND;TZID=UTC:20250708T170000
DTSTAMP:20260421T225426
CREATED:20250604T100418Z
LAST-MODIFIED:20250604T100418Z
UID:2986-1751961600-1751994000@classiccarratings.com
SUMMARY:RM Sotheby's\, Cliveden House
DESCRIPTION:
URL:https://classiccarratings.com/fr/event-calendar/rm-sothebys-cliveden-house/
CATEGORIES:Auctions
END:VEVENT
BEGIN:VEVENT
DTSTART;TZID=UTC:20250709T080000
DTEND;TZID=UTC:20250712T170000
DTSTAMP:20260421T225426
CREATED:20250604T094218Z
LAST-MODIFIED:20250604T094218Z
UID:2969-1752048000-1752339600@classiccarratings.com
SUMMARY:Mecum Auctions\, Florida Summer Special
DESCRIPTION:
URL:https://classiccarratings.com/fr/event-calendar/mecum-auctions-florida-summer-special/
CATEGORIES:Auctions
END:VEVENT
BEGIN:VEVENT
DTSTART;TZID=UTC:20250711T080000
DTEND;TZID=UTC:20250711T170000
DTSTAMP:20260421T225426
CREATED:20250604T085953Z
LAST-MODIFIED:20250604T085953Z
UID:2918-1752220800-1752253200@classiccarratings.com
SUMMARY:Bonhams\, Goodwood Festival of Speed
DESCRIPTION:
URL:https://classiccarratings.com/fr/event-calendar/bonhams-goodwood-festival-of-speed/
CATEGORIES:Auctions
END:VEVENT
BEGIN:VEVENT
DTSTART;TZID=UTC:20250719T080000
DTEND;TZID=UTC:20250719T170000
DTSTAMP:20260421T225426
CREATED:20250604T093722Z
LAST-MODIFIED:20250604T093722Z
UID:2960-1752912000-1752944400@classiccarratings.com
SUMMARY:Historics at Brooklands\, The Summer Serenade; Windsorview Lakes
DESCRIPTION:
URL:https://classiccarratings.com/fr/event-calendar/historics-at-brooklands-the-summer-serenade-windsorview-lakes/
CATEGORIES:Auctions
END:VEVENT
BEGIN:VEVENT
DTSTART;TZID=UTC:20250723T080000
DTEND;TZID=UTC:20250726T170000
DTSTAMP:20260421T225426
CREATED:20250604T094304Z
LAST-MODIFIED:20250604T094304Z
UID:2971-1753257600-1753549200@classiccarratings.com
SUMMARY:Mecum Auctions\, Harrisburg
DESCRIPTION:
URL:https://classiccarratings.com/fr/event-calendar/mecum-auctions-harrisburg/
CATEGORIES:Auctions
END:VEVENT
BEGIN:VEVENT
DTSTART;TZID=UTC:20250730T080000
DTEND;TZID=UTC:20250730T170000
DTSTAMP:20260421T225426
CREATED:20250604T093301Z
LAST-MODIFIED:20250604T093301Z
UID:2954-1753862400-1753894800@classiccarratings.com
SUMMARY:H&H Auctions\, Pavilion Gardens | Buxton\, Derbyshire
DESCRIPTION:
URL:https://classiccarratings.com/fr/event-calendar/hh-auctions-pavilion-gardens-buxton-derbyshire/
CATEGORIES:Auctions
END:VEVENT
BEGIN:VEVENT
DTSTART;TZID=UTC:20250731T080000
DTEND;TZID=UTC:20250731T170000
DTSTAMP:20260421T225426
CREATED:20250604T101227Z
LAST-MODIFIED:20250604T101227Z
UID:2996-1753948800-1753981200@classiccarratings.com
SUMMARY:SWVA\, July 31\, 2025
DESCRIPTION:
URL:https://classiccarratings.com/fr/event-calendar/swva-july-31-2025/
CATEGORIES:Auctions
END:VEVENT
END:VCALENDAR