BEGIN:VCALENDAR
VERSION:2.0
PRODID:-//ClassicCarRatings.com - ECPv6.11.2.1//NONSGML v1.0//EN
CALSCALE:GREGORIAN
METHOD:PUBLISH
X-WR-CALNAME:ClassicCarRatings.com
X-ORIGINAL-URL:https://classiccarratings.com
X-WR-CALDESC:Events for ClassicCarRatings.com
REFRESH-INTERVAL;VALUE=DURATION:PT1H
X-Robots-Tag:noindex
X-PUBLISHED-TTL:PT1H
BEGIN:VTIMEZONE
TZID:UTC
BEGIN:STANDARD
TZOFFSETFROM:+0000
TZOFFSETTO:+0000
TZNAME:UTC
DTSTART:20250101T000000
END:STANDARD
END:VTIMEZONE
BEGIN:VEVENT
DTSTART;TZID=UTC:20250905T080000
DTEND;TZID=UTC:20250907T170000
DTSTAMP:20260421T000143
CREATED:20250616T113756Z
LAST-MODIFIED:20250616T113756Z
UID:3028-1757059200-1757264400@classiccarratings.com
SUMMARY:Radnor Hunt Concours d’Elegance
DESCRIPTION:
URL:https://classiccarratings.com/event-calendar/radnor-hunt-concours-delegance/
CATEGORIES:Meetings
END:VEVENT
BEGIN:VEVENT
DTSTART;TZID=UTC:20250926T080000
DTEND;TZID=UTC:20250928T170000
DTSTAMP:20260421T000143
CREATED:20250616T114158Z
LAST-MODIFIED:20250616T114158Z
UID:3032-1758873600-1759078800@classiccarratings.com
SUMMARY:St. Michaels Concours d’Elegance
DESCRIPTION:
URL:https://classiccarratings.com/event-calendar/st-michaels-concours-delegance/
CATEGORIES:Meetings
END:VEVENT
END:VCALENDAR